Workbook

Sheet 参加チーム名
B1: かさまジュニア・キッズドッジボール大会
F3: 44800
B4: 参加チーム組合せ表 | F4: 笠間市民体育館
B6: 【ジュニアの部】
B7: リーグ | E7: チ ー ム | F7: 所 在 地 | G7: 練習時間
B8: A | D8: 1 | E8: ST Enjoys Jr | F8: 牛久市 | G8: 8時10分～8時25分
D9: 2 | E9: 茨城KOSMO Jr. | F9: 茨城町 | G9: 8時10分～8時25分
D10: 3 | E10: 水戸VICTORY Jr. | F10: 水戸市 | G10: 8時10分～8時25分
D11: 4 | E11: 竹島フェニックス Jr. | F11: 筑西市 | G11: 8時10分～8時25分
D12: 5 | E12: ＵＬＴＩＭＡＴＥ ＳＭＩＬＥ Ｊｒ. | F12: 桜川市 | G12: 8時10分～8時25分
B13: B | D13: 6 | E13: 笠間ピュアスターズ Jr | F13: 笠間市 | G13: 8時10分～8時25分
D14: 7 | E14: 梅が丘ドッジボールクラブＪｒ | F14: 水戸市 | G14: 8時10分～8時25分
D15: 8 | E15: 吉田☆ラッキースターズJr. | F15: 水戸市 | G15: 8時10分～8時25分
D16: 9 | E16: トライ∞ジュニア | F16: 宇都宮市 | G16: 8時25分～8時40分
D17: 10 | E17: 河和田ボンバーズ・J | F17: 水戸市 | G17: 8時25分～8時40分
B19: 【キッズの部】
B20: リーグ | E20: チ ー ム | F20: 所 在 地 | G20: 練習時間
B21: C | D21: 11 | E21: 笠間ピュアスターズ キッズ | F21: 笠間市 | G21: 8時25分～8時40分
D22: 12 | E22: OBT Kids 風神 | F22: 土浦市 | G22: 8時25分～8時40分
D23: 13 | E23: 茨城KOSMOキッズ | F23: 茨城町 | G23: 8時25分～8時40分
D24: 14 | E24: OBT Kids 雷神 | F24: 土浦市 | G24: 8時25分～8時40分
D25: 15 | E25: 河和田ボンバーズ・kids | F25: 水戸市 | G25: 8時25分～8時40分
B27: 【フレンドリーの部】
B28: リーグ | E28: チ ー ム | F28: 所 在 地 | G28: 練習時間
B29: D | D29: 21 | E29: 竹島フェニックス | F29: 筑西市 | G29: 8時25分～8時40分
D30: 22 | E30: 笠間リトルフォックス | F30: 笠間市 | G30: 8時40分～8時55分
D31: 23 | E31: ＵＬＴＩＭＡＴＥ ＳＭＩＬＥ | F31: 桜川市 | G31: 8時40分～8時55分
D32: 24 | E32: 水戸VICTORY | F32: 水戸市 | G32: 8時40分～8時55分
D33: 25 | E33: 梅が丘子ども会ＤＢ | F33: 水戸市 | G33: 8時40分～8時55分
B34: E | D34: 26 | E34: ST Enjoys | F34: 牛久市 | G34: 8時40分～8時55分
D35: 27 | E35: 乙戸ブルーサンダース | F35: 土浦市 | G35: 8時40分～8時55分
D36: 28 | E36: 笠間ピュアスターズ | F36: 笠間市 | G36: 8時40分～8時55分
D37: 29 | E37: よつわキッズ | F37: 土浦市 | G37: 8時40分～8時55分

Sheet タイムスケジュール
A1: A コート（ステージ側） タイムスケジュール | M1: B コート（出入り口側）タイムスケジュール
E3: （左側） 審判席から見て左右に整列 （右側） | P3: （左側） 審判席から見て左右に整列 （右側）
B4: 試合 | C4: 時間 | D4: No. | E4: チーム名 | G4: 対 | I4: No. | J4: チーム名 | M4: 試合 | N4: 時間 | O4: No. | P4: チーム名 | R4: 対 | T4: No. | U4: チーム名
A5: 0.00625 | B5: 1 | C5: 0.39583333 | D5: 21 | E5: =IF(D5="","",VLOOKUP(D5,参加チーム名!$D$6:$E62,2)) -> 竹島フェニックス | G5: - | I5: 22 | J5: =IF(I5="","",VLOOKUP(I5,参加チーム名!$D$6:$E62,2)) -> 笠間リトルフォックス | L5: =A5 -> 0.00625 | M5: 1 | N5: 0.39583333 | O5: 1 | P5: =IF(O5="","",VLOOKUP(O5,参加チーム名!$D$6:$E62,2)) -> ST Enjoys Jr | Q5: 5 | R5: - | S5: 2 | T5: 2 | U5: =IF(T5="","",VLOOKUP(T5,参加チーム名!$D$6:$E62,2)) -> 茨城KOSMO Jr.
B6: 2 | C6: =C5+A$5 -> 0.40208333 | D6: 26 | E6: =IF(D6="","",VLOOKUP(D6,参加チーム名!$D$6:$E63,2)) -> ST Enjoys | F6: 4 | G6: - | H6: 5 | I6: 27 | J6: =IF(I6="","",VLOOKUP(I6,参加チーム名!$D$6:$E63,2)) -> 乙戸ブルーサンダース | M6: 2 | N6: =N5+L$5 -> 0.40208333 | O6: 6 | P6: =IF(O6="","",VLOOKUP(O6,参加チーム名!$D$6:$E62,2)) -> 笠間ピュアスターズ Jr | Q6: 5 | R6: - | S6: 4 | T6: 7 | U6: =IF(T6="","",VLOOKUP(T6,参加チーム名!$D$6:$E62,2)) -> 梅が丘ドッジボールクラブＪｒ
B7: 3 | C7: =C6+A$5 -> 0.40833333 | D7: 3 | E7: =IF(D7="","",VLOOKUP(D7,参加チーム名!$D$6:$E63,2)) -> 水戸VICTORY Jr. | F7: 3 | G7: - | H7: 5 | I7: 4 | J7: =IF(I7="","",VLOOKUP(I7,参加チーム名!$D$6:$E63,2)) -> 竹島フェニックス Jr. | M7: 3 | N7: =N6+L$5 -> 0.40833333 | O7: 11 | P7: =IF(O7="","",VLOOKUP(O7,参加チーム名!$D$6:$E64,2)) -> 笠間ピュアスターズ キッズ | Q7: 0 | R7: - | S7: 7 | T7: 12 | U7: =IF(T7="","",VLOOKUP(T7,参加チーム名!$D$6:$E64,2)) -> OBT Kids 風神
B8: 4 | C8: =C7+A$5 -> 0.41458333 | D8: 8 | E8: =IF(D8="","",VLOOKUP(D8,参加チーム名!$D$6:$E64,2)) -> 吉田☆ラッキースターズJr. | F8: 4 | G8: - | H8: 7 | I8: 9 | J8: =IF(I8="","",VLOOKUP(I8,参加チーム名!$D$6:$E64,2)) -> トライ∞ジュニア | M8: 4 | N8: =N7+L$5 -> 0.41458333 | O8: 13 | P8: =IF(O8="","",VLOOKUP(O8,参加チーム名!$D$6:$E65,2)) -> 茨城KOSMOキッズ | Q8: 0 | R8: - | S8: 5 | T8: 14 | U8: =IF(T8="","",VLOOKUP(T8,参加チーム名!$D$6:$E65,2)) -> OBT Kids 雷神
B9: 5 | C9: =C8+A$5 -> 0.42083333 | D9: 15 | E9: =IF(D9="","",VLOOKUP(D9,参加チーム名!$D$6:$E66,2)) -> 河和田ボンバーズ・kids | F9: 1 | G9: - | H9: 5 | I9: 11 | J9: =IF(I9="","",VLOOKUP(I9,参加チーム名!$D$6:$E66,2)) -> 笠間ピュアスターズ キッズ | M9: 5 | N9: =N8+L$5 -> 0.42083333 | O9: 23 | P9: =IF(O9="","",VLOOKUP(O9,参加チーム名!$D$6:$E66,2)) -> ＵＬＴＩＭＡＴＥ ＳＭＩＬＥ | Q9: 6 | R9: - | S9: 3 | T9: 24 | U9: =IF(T9="","",VLOOKUP(T9,参加チーム名!$D$6:$E66,2)) -> 水戸VICTORY
B10: 6 | C10: =C9+A$5 -> 0.42708333 | D10: 5 | E10: =IF(D10="","",VLOOKUP(D10,参加チーム名!$D$6:$E65,2)) -> ＵＬＴＩＭＡＴＥ ＳＭＩＬＥ Ｊｒ. | F10: 3 | G10: - | H10: 4 | I10: 1 | J10: =IF(I10="","",VLOOKUP(I10,参加チーム名!$D$6:$E65,2)) -> ST Enjoys Jr | M10: 6 | N10: =N9+L$5 -> 0.42708333 | O10: 28 | P10: =IF(O10="","",VLOOKUP(O10,参加チーム名!$D$6:$E67,2)) -> 笠間ピュアスターズ | Q10: 5 | R10: - | S10: 3 | T10: 29 | U10: =IF(T10="","",VLOOKUP(T10,参加チーム名!$D$6:$E67,2)) -> よつわキッズ
B11: 7 | C11: =C10+A$5 -> 0.43333333 | D11: 25 | E11: =IF(D11="","",VLOOKUP(D11,参加チーム名!$D$6:$E68,2)) -> 梅が丘子ども会ＤＢ | F11: 4 | G11: - | H11: 7 | I11: 21 | J11: =IF(I11="","",VLOOKUP(I11,参加チーム名!$D$6:$E68,2)) -> 竹島フェニックス | M11: 7 | N11: =N10+L$5 -> 0.43333333 | O11: 10 | P11: =IF(O11="","",VLOOKUP(O11,参加チーム名!$D$6:$E67,2)) -> 河和田ボンバーズ・J | Q11: 6 | R11: - | S11: 3 | T11: 6 | U11: =IF(T11="","",VLOOKUP(T11,参加チーム名!$D$6:$E67,2)) -> 笠間ピュアスターズ Jr
A12: 0.00625 | B12: 8 | C12: =C11+A$5 -> 0.43958333 | D12: 26 | E12: =IF(D12="","",VLOOKUP(D12,参加チーム名!$D$6:$E69,2)) -> ST Enjoys | F12: 6 | G12: - | H12: 0 | I12: 28 | J12: =IF(I12="","",VLOOKUP(I12,参加チーム名!$D$6:$E69,2)) -> 笠間ピュアスターズ | L12: =A12 -> 0.00625 | M12: 8 | N12: =N11+L$5 -> 0.43958333 | O12: 2 | P12: =IF(O12="","",VLOOKUP(O12,参加チーム名!$D$6:$E66,2)) -> 茨城KOSMO Jr. | Q12: 5 | R12: - | S12: 1 | T12: 3 | U12: =IF(T12="","",VLOOKUP(T12,参加チーム名!$D$6:$E66,2)) -> 水戸VICTORY Jr.
B13: 9 | C13: =C12+A$12 -> 0.44583333 | D13: 7 | E13: =IF(D13="","",VLOOKUP(D13,参加チーム名!$D$6:$E69,2)) -> 梅が丘ドッジボールクラブＪｒ | F13: 5 | G13: - | H13: 5 | I13: 8 | J13: =IF(I13="","",VLOOKUP(I13,参加チーム名!$D$6:$E69,2)) -> 吉田☆ラッキースターズJr. | M13: 9 | N13: =N12+L$12 -> 0.44583333 | O13: 12 | P13: =IF(O13="","",VLOOKUP(O13,参加チーム名!$D$6:$E70,2)) -> OBT Kids 風神 | Q13: 6 | R13: - | S13: 0 | T13: 13 | U13: =IF(T13="","",VLOOKUP(T13,参加チーム名!$D$6:$E70,2)) -> 茨城KOSMOキッズ
B14: 10 | C14: =C13+A$12 -> 0.45208333 | D14: 4 | E14: =IF(D14="","",VLOOKUP(D14,参加チーム名!$D$6:$E67,2)) -> 竹島フェニックス Jr. | F14: 3 | G14: - | H14: 6 | I14: 5 | J14: =IF(I14="","",VLOOKUP(I14,参加チーム名!$D$6:$E67,2)) -> ＵＬＴＩＭＡＴＥ ＳＭＩＬＥ Ｊｒ. | M14: 10 | N14: =N13+L$12 -> 0.45208333 | O14: 14 | P14: =IF(O14="","",VLOOKUP(O14,参加チーム名!$D$6:$E71,2)) -> OBT Kids 雷神 | Q14: 7 | R14: - | S14: 0 | T14: 15 | U14: =IF(T14="","",VLOOKUP(T14,参加チーム名!$D$6:$E71,2)) -> 河和田ボンバーズ・kids
B15: 11 | C15: =C14+A$12 -> 0.45833333 | D15: 9 | E15: =IF(D15="","",VLOOKUP(D15,参加チーム名!$D$6:$E71,2)) -> トライ∞ジュニア | F15: 7 | G15: - | H15: 3 | I15: 10 | J15: =IF(I15="","",VLOOKUP(I15,参加チーム名!$D$6:$E71,2)) -> 河和田ボンバーズ・J | M15: 11 | N15: =N14+L$12 -> 0.45833333 | O15: 22 | P15: =IF(O15="","",VLOOKUP(O15,参加チーム名!$D$6:$E72,2)) -> 笠間リトルフォックス | R15: - | T15: 23 | U15: =IF(T15="","",VLOOKUP(T15,参加チーム名!$D$6:$E72,2)) -> ＵＬＴＩＭＡＴＥ ＳＭＩＬＥ
B16: 12 | C16: =C15+A$12 -> 0.46458333 | D16: 13 | E16: =IF(D16="","",VLOOKUP(D16,参加チーム名!$D$6:$E73,2)) -> 茨城KOSMOキッズ | F16: 4 | G16: - | H16: 1 | I16: 11 | J16: =IF(I16="","",VLOOKUP(I16,参加チーム名!$D$6:$E73,2)) -> 笠間ピュアスターズ キッズ | M16: 12 | N16: =N15+L$12 -> 0.46458333 | O16: 29 | P16: =IF(O16="","",VLOOKUP(O16,参加チーム名!$D$6:$E73,2)) -> よつわキッズ | Q16: 5 | R16: - | S16: 2 | T16: 27 | U16: =IF(T16="","",VLOOKUP(T16,参加チーム名!$D$6:$E73,2)) -> 乙戸ブルーサンダース
B17: 13 | C17: =C16+A$5 -> 0.47083333 | D17: 14 | E17: =IF(D17="","",VLOOKUP(D17,参加チーム名!$D$6:$E74,2)) -> OBT Kids 雷神 | F17: 3 | G17: - | H17: 4 | I17: 12 | J17: =IF(I17="","",VLOOKUP(I17,参加チーム名!$D$6:$E74,2)) -> OBT Kids 風神 | M17: 13 | N17: =N16+L$5 -> 0.47083333 | O17: 24 | P17: =IF(O17="","",VLOOKUP(O17,参加チーム名!$D$6:$E74,2)) -> 水戸VICTORY | Q17: 5 | R17: - | S17: 2 | T17: 25 | U17: =IF(T17="","",VLOOKUP(T17,参加チーム名!$D$6:$E74,2)) -> 梅が丘子ども会ＤＢ
B18: 14 | C18: =C17+A$12 -> 0.47708333 | D18: 3 | E18: =IF(D18="","",VLOOKUP(D18,参加チーム名!$D$6:$E70,2)) -> 水戸VICTORY Jr. | F18: 1 | G18: - | H18: 7 | I18: 1 | J18: =IF(I18="","",VLOOKUP(I18,参加チーム名!$D$6:$E70,2)) -> ST Enjoys Jr | M18: 14 | N18: =N17+L$12 -> 0.47708333 | O18: 15 | P18: =IF(O18="","",VLOOKUP(O18,参加チーム名!$D$6:$E75,2)) -> 河和田ボンバーズ・kids | Q18: 0 | R18: - | S18: 4 | T18: 13 | U18: =IF(T18="","",VLOOKUP(T18,参加チーム名!$D$6:$E75,2)) -> 茨城KOSMOキッズ
B19: 15 | C19: =C18+A$12 -> 0.48333333 | D19: 8 | E19: =IF(D19="","",VLOOKUP(D19,参加チーム名!$D$6:$E75,2)) -> 吉田☆ラッキースターズJr. | F19: 3 | G19: - | H19: 3 | I19: 6 | J19: =IF(I19="","",VLOOKUP(I19,参加チーム名!$D$6:$E75,2)) -> 笠間ピュアスターズ Jr | M19: 15 | N19: =N18+L$12 -> 0.48333333 | O19: 11 | P19: =IF(O19="","",VLOOKUP(O19,参加チーム名!$D$6:$E76,2)) -> 笠間ピュアスターズ キッズ | Q19: 0 | R19: - | S19: 6 | T19: 14 | U19: =IF(T19="","",VLOOKUP(T19,参加チーム名!$D$6:$E76,2)) -> OBT Kids 雷神
B20: 16 | C20: =C19+A$12 -> 0.48958333 | D20: 4 | E20: =IF(D20="","",VLOOKUP(D20,参加チーム名!$D$6:$E71,2)) -> 竹島フェニックス Jr. | F20: 2 | G20: - | H20: 6 | I20: 2 | J20: =IF(I20="","",VLOOKUP(I20,参加チーム名!$D$6:$E71,2)) -> 茨城KOSMO Jr. | M20: 16 | N20: =N19+L$12 -> 0.48958333 | O20: 29 | P20: =IF(O20="","",VLOOKUP(O20,参加チーム名!$D$6:$E77,2)) -> よつわキッズ | Q20: 2 | R20: - | S20: 5 | T20: 26 | U20: =IF(T20="","",VLOOKUP(T20,参加チーム名!$D$6:$E77,2)) -> ST Enjoys
B21: 17 | C21: =C20+A$12 -> 0.49583333 | D21: 12 | E21: =IF(D21="","",VLOOKUP(D21,参加チーム名!$D$6:$E78,2)) -> OBT Kids 風神 | F21: 7 | G21: - | H21: 0 | I21: 15 | J21: =IF(I21="","",VLOOKUP(I21,参加チーム名!$D$6:$E78,2)) -> 河和田ボンバーズ・kids | M21: 17 | N21: =N20+L$12 -> 0.49583333 | O21: 23 | P21: =IF(O21="","",VLOOKUP(O21,参加チーム名!$D$6:$E78,2)) -> ＵＬＴＩＭＡＴＥ ＳＭＩＬＥ | Q21: 6 | R21: - | S21: 3 | T21: 21 | U21: =IF(T21="","",VLOOKUP(T21,参加チーム名!$D$6:$E78,2)) -> 竹島フェニックス
B22: 18 | C22: =C21+A$12 -> 0.50208333 | D22: 27 | E22: =IF(D22="","",VLOOKUP(D22,参加チーム名!$D$6:$E79,2)) -> 乙戸ブルーサンダース | F22: 0 | G22: - | H22: 3 | I22: 28 | J22: =IF(I22="","",VLOOKUP(I22,参加チーム名!$D$6:$E79,2)) -> 笠間ピュアスターズ | M22: 18 | N22: =N21+L$12 -> 0.50208333 | O22: 9 | P22: =IF(O22="","",VLOOKUP(O22,参加チーム名!$D$6:$E78,2)) -> トライ∞ジュニア | Q22: 7 | R22: - | S22: 0 | T22: 7 | U22: =IF(T22="","",VLOOKUP(T22,参加チーム名!$D$6:$E78,2)) -> 梅が丘ドッジボールクラブＪｒ
B23: 19 | C23: =C22+A$12 -> 0.50833333 | D23: 24 | E23: =IF(D23="","",VLOOKUP(D23,参加チーム名!$D$6:$E80,2)) -> 水戸VICTORY | G23: - | I23: 22 | J23: =IF(I23="","",VLOOKUP(I23,参加チーム名!$D$6:$E80,2)) -> 笠間リトルフォックス | M23: 19 | N23: =N22+L$12 -> 0.50833333 | O23: 5 | P23: =IF(O23="","",VLOOKUP(O23,参加チーム名!$D$6:$E73,2)) -> ＵＬＴＩＭＡＴＥ ＳＭＩＬＥ Ｊｒ. | Q23: 4 | R23: - | S23: 1 | T23: 3 | U23: =IF(T23="","",VLOOKUP(T23,参加チーム名!$D$6:$E73,2)) -> 水戸VICTORY Jr.
B24: 20 | C24: =C23+A$12 -> 0.51458333 | D24: 25 | E24: =IF(D24="","",VLOOKUP(D24,参加チーム名!$D$6:$E81,2)) -> 梅が丘子ども会ＤＢ | F24: 7 | G24: - | H24: 2 | I24: 23 | J24: =IF(I24="","",VLOOKUP(I24,参加チーム名!$D$6:$E81,2)) -> ＵＬＴＩＭＡＴＥ ＳＭＩＬＥ | M24: 20 | N24: =N23+L$12 -> 0.51458333 | O24: 10 | P24: =IF(O24="","",VLOOKUP(O24,参加チーム名!$D$6:$E80,2)) -> 河和田ボンバーズ・J | Q24: 6 | R24: - | S24: 4 | T24: 8 | U24: =IF(T24="","",VLOOKUP(T24,参加チーム名!$D$6:$E80,2)) -> 吉田☆ラッキースターズJr.
B25: 21 | C25: =C24+A$12 -> 0.52083333 | D25: 1 | E25: =IF(D25="","",VLOOKUP(D25,参加チーム名!$D$6:$E74,2)) -> ST Enjoys Jr | F25: 8 | G25: - | H25: 0 | I25: 4 | J25: =IF(I25="","",VLOOKUP(I25,参加チーム名!$D$6:$E74,2)) -> 竹島フェニックス Jr. | M25: 21 | N25: =N24+L$12 -> 0.52083333 | O25: 21 | P25: =IF(O25="","",VLOOKUP(O25,参加チーム名!$D$6:$E82,2)) -> 竹島フェニックス | Q25: 1 | R25: - | S25: 5 | T25: 24 | U25: =IF(T25="","",VLOOKUP(T25,参加チーム名!$D$6:$E82,2)) -> 水戸VICTORY
B26: 22 | C26: =C25+A$12 -> 0.52708333 | D26: 6 | E26: =IF(D26="","",VLOOKUP(D26,参加チーム名!$D$6:$E82,2)) -> 笠間ピュアスターズ Jr | F26: 0 | G26: - | H26: 8 | I26: 9 | J26: =IF(I26="","",VLOOKUP(I26,参加チーム名!$D$6:$E82,2)) -> トライ∞ジュニア | M26: 22 | N26: =N25+L$12 -> 0.52708333 | O26: 22 | P26: =IF(O26="","",VLOOKUP(O26,参加チーム名!$D$6:$E83,2)) -> 笠間リトルフォックス | R26: - | T26: 25 | U26: =IF(T26="","",VLOOKUP(T26,参加チーム名!$D$6:$E83,2)) -> 梅が丘子ども会ＤＢ
B27: 23 | C27: =C26+A$12 -> 0.53333333 | D27: 2 | E27: =IF(D27="","",VLOOKUP(D27,参加チーム名!$D$6:$E75,2)) -> 茨城KOSMO Jr. | F27: 2 | G27: - | H27: 3 | I27: 5 | J27: =IF(I27="","",VLOOKUP(I27,参加チーム名!$D$6:$E75,2)) -> ＵＬＴＩＭＡＴＥ ＳＭＩＬＥ Ｊｒ. | M27: 23 | N27: =N26+L$12 -> 0.53333333 | O27: 7 | P27: =IF(O27="","",VLOOKUP(O27,参加チーム名!$D$6:$E84,2)) -> 梅が丘ドッジボールクラブＪｒ | Q27: 5 | R27: - | S27: 4 | T27: 10 | U27: =IF(T27="","",VLOOKUP(T27,参加チーム名!$D$6:$E84,2)) -> 河和田ボンバーズ・J
B28: 昼 食 | M28: 昼 食
B29: 24 | C29: 0.57638889 | G29: - | M29: 24 | N29: 0.57638889 | P29: =参加チーム名!E10 -> 水戸VICTORY Jr. | Q29: 5 | R29: - | S29: 1 | U29: =参加チーム名!E13 -> 笠間ピュアスターズ Jr | V29: 5
B30: 25 | C30: =C29+A$12 -> 0.58263889 | E30: =参加チーム名!E25 -> 河和田ボンバーズ・kids | F30: 3(2) | G30: - | H30: 3(4) | J30: =参加チーム名!E23 -> 茨城KOSMOキッズ | M30: 25 | N30: =N29+L$12 -> 0.58263889 | P30: =参加チーム名!E11 -> 竹島フェニックス Jr. | Q30: 1 | R30: - | S30: 5 | U30: =参加チーム名!E15 -> 吉田☆ラッキースターズJr.
B31: 26 | C31: =C30+A$12 -> 0.58888889 | E31: =参加チーム名!E8 -> ST Enjoys Jr | F31: 6 | G31: - | H31: 2 | J31: =P29 -> 水戸VICTORY Jr. | M31: 26 | N31: =N30+L$12 -> 0.58888889 | P31: =参加チーム名!E12 -> ＵＬＴＩＭＡＴＥ ＳＭＩＬＥ Ｊｒ. | Q31: 5(4) | R31: - | S31: 5(5) | U31: =参加チーム名!E14 -> 梅が丘ドッジボールクラブＪｒ
B32: 27 | C32: =C31+A$12 -> 0.59513889 | E32: =リーグ表!D8 -> 茨城KOSMO Jr. | F32: 5 | G32: - | H32: 6 | J32: =参加チーム名!E17 -> 河和田ボンバーズ・J | M32: 27 | N32: =N31+L$12 -> 0.59513889 | P32: =U30 -> 吉田☆ラッキースターズJr. | Q32: 1 | R32: - | S32: 7 | U32: =参加チーム名!E16 -> トライ∞ジュニア
B33: 28 | C33: =C32+A$12 -> 0.60138889 | E33: =参加チーム名!E22 -> OBT Kids 風神 | F33: 5 | G33: - | H33: 0 | J33: =J30 -> 茨城KOSMOキッズ | M33: 28 | N33: =N32+L$12 -> 0.60138889 | P33: =参加チーム名!E21 -> 笠間ピュアスターズ キッズ | Q33: 0 | R33: - | S33: 7 | U33: =参加チーム名!E24 -> OBT Kids 雷神
B34: 29 | C34: =C33+A$12 -> 0.60763889 | E34: =参加チーム名!E31 -> ＵＬＴＩＭＡＴＥ ＳＭＩＬＥ | F34: 5 | G34: - | H34: 2 | J34: =参加チーム名!E35 -> 乙戸ブルーサンダース | M34: 29 | N34: =N33+L$12 -> 0.60763889 | P34: =参加チーム名!E32 -> 水戸VICTORY | Q34: 3 | R34: - | S34: 5 | U34: =参加チーム名!E37 -> よつわキッズ
B35: 30 | C35: =C34+A$12 -> 0.61388889 | E35: =参加チーム名!E33 -> 梅が丘子ども会ＤＢ | F35: 7 | G35: - | H35: 3 | J35: =参加チーム名!E36 -> 笠間ピュアスターズ | M35: 30 | N35: =N34+L$12 -> 0.61388889 | P35: =参加チーム名!E29 -> 竹島フェニックス | Q35: 6 | R35: - | S35: 2 | U35: =参加チーム名!E34 -> ST Enjoys
B36: 31 | C36: =C35+A$12 -> 0.62013889 | E36: =U29 -> 笠間ピュアスターズ Jr | F36: 1 | G36: - | H36: 5 | J36: =E32 -> 茨城KOSMO Jr. | K36: 交流戦 | M36: 31 | N36: =N35+L$12 -> 0.62013889 | P36: =P30 -> 竹島フェニックス Jr. | Q36: 3 | R36: - | S36: 2 | U36: =P31 -> ＵＬＴＩＭＡＴＥ ＳＭＩＬＥ Ｊｒ. | V36: 交流戦
B37: 32 | C37: =C36+A$12 -> 0.62638889 | E37: =P33 -> 笠間ピュアスターズ キッズ | F37: 3(2) | G37: - | H37: 3(3) | J37: =E30 -> 河和田ボンバーズ・kids | K37: 交流戦 | M37: 32 | N37: =N36+L$12 -> 0.62638889 | P37: =P34 -> 水戸VICTORY | Q37: 5 | R37: - | S37: 2 | U37: =U35 -> ST Enjoys | V37: 交流戦
B38: 33 | C38: =C37+A$12 -> 0.63263889 | E38: =J34 -> 乙戸ブルーサンダース | F38: 0 | G38: - | H38: 6 | J38: =J35 -> 笠間ピュアスターズ | K38: 交流戦 | M38: 33 | N38: =N37+L$12 -> 0.63263889 | P38: =U31 -> 梅が丘ドッジボールクラブＪｒ | Q38: 4 | R38: - | S38: 6 | U38: =U32 -> トライ∞ジュニア
B39: 34 | C39: =C38+A$12 -> 0.63888889 | E39: =E31 -> ST Enjoys Jr | F39: 3 | G39: - | H39: 1 | J39: =J32 -> 河和田ボンバーズ・J | M39: 34 | N39: =N38+L$12 -> 0.63888889 | P39: =E33 -> OBT Kids 風神 | Q39: 1 | R39: - | S39: 2 | U39: =U33 -> OBT Kids 雷神 | V39: キッズ決勝
A40: 2 | B40: 35 | C40: =C39+A$12 -> 0.64513889 | E40: =E34 -> ＵＬＴＩＭＡＴＥ ＳＭＩＬＥ | F40: 5 | G40: - | H40: 4 | J40: =E35 -> 梅が丘子ども会ＤＢ | L40: 0.010416667 | M40: 35 | N40: 0.65625 | P40: =E39 -> ST Enjoys Jr | Q40: 2 | R40: - | S40: 0 | U40: =U38 -> トライ∞ジュニア | V40: ジュニア決勝
A41: 0.020833333 | B41: 36 | C41: =C40+A$12 -> 0.65138889 | E41: =U34 -> よつわキッズ | F41: 3 | G41: - | H41: 7 | J41: =P35 -> 竹島フェニックス | L41: 0.013888889 | R41: -
A42: 0.020833333 | B42: 37 | C42: =C41+A$12 -> 0.65763889 | E42: =P37 -> 水戸VICTORY | F42: 2 | G42: - | H42: 0 | J42: =J41 -> 竹島フェニックス | K42: フレンドリー決勝 | L42: 0.013888889 | R42: -

Sheet リーグ表
C1: 予選リーグ表
B3: 【 ジュニアの部 】
B5: A | E5: 勝-分-敗 | J5: 勝点 | K5: 人数 | M5: 順位 | O5: 1 | R5: 2 | U5: 3 | X5: 4 | AA5: 5
A6: =M6 -> 1 | C6: 1 | D6: =参加チーム名!E8 -> ST Enjoys Jr | E6: =IF(AND(R6="",U6="",X6="",AA6=""),"",COUNTIF(R6:AC6,"○")) -> 4 | F6: - | G6: =IF(AND(R6="",U6="",X6="",AA6=""),"",COUNTIF(R6:AC6,"△")) -> 0 | H6: - | I6: =IF(AND(R6="",U6="",X6="",AA6=""),"",COUNTIF(R6:AC6,"×")) -> 0 | J6: =IF(E6="","",E6*2+G6*1) -> 8 | K6: 内 | L6: =IF(AND(R7="",U7="",X7="",AA7=""),"",SUM(R7,U7,X7,AA7,)) -> 24 | M6: 1 | R6: =IF(AND(R7="",T7=""),"",IF(R7>T7,"○",IF(R7<T7,"×","△"))) -> ○ | U6: =IF(AND(U7="",W7=""),"",IF(U7>W7,"○",IF(U7<W7,"×","△"))) -> ○ | X6: =IF(AND(X7="",Z7=""),"",IF(X7>Z7,"○",IF(X7<Z7,"×","△"))) -> ○ | AA6: =IF(AND(AA7="",AC7=""),"",IF(AA7>AC7,"○",IF(AA7<AC7,"×","△"))) -> ○
A7: =M7 -> 0 | K7: 外 | L7: =IF(AND(T7="",W7="",Z7="",AC7=""),"",SUM(T7,W7,Z7,AC7)) -> 6 | R7: 5 | S7: - | T7: 2 | U7: 7 | V7: - | W7: 1 | X7: 8 | Y7: - | Z7: 0 | AA7: 4 | AB7: - | AC7: 3
A8: =M8 -> 3 | C8: 2 | D8: =参加チーム名!E9 -> 茨城KOSMO Jr. | E8: =IF(AND(O8="",U8="",X8="",AA8=""),"",COUNTIF(O8:AC8,"○")) -> 2 | F8: - | G8: {=IF(AND(O8="",U8="",X8:AC8="",AA8=""),"",COUNTIF(O8:AC8,"△"))} -> 0 | H8: - | I8: =IF(AND(O8="",U8="",X8="",AA8=""),"",COUNTIF(O8:AC8,"×")) -> 2 | J8: =IF(E8="","",E8*2+G8*1) -> 4 | K8: 内 | L8: =IF(AND(O9="",U9="",X9="",AA9=""),"",SUM(O9,U9,X9,AA9,)) -> 15 | M8: 3 | O8: =IF(AND(O9="",Q9=""),"",IF(O9>Q9,"○",IF(O9<Q9,"×","△"))) -> × | U8: =IF(AND(U9="",W9=""),"",IF(U9>W9,"○",IF(U9<W9,"×","△"))) -> ○ | X8: =IF(AND(X9="",Z9=""),"",IF(X9>Z9,"○",IF(X9<Z9,"×","△"))) -> ○ | AA8: =IF(AND(AA9="",AC9=""),"",IF(AA9>AC9,"○",IF(AA9<AC9,"×","△"))) -> ×
A9: =M9 -> 0 | K9: 外 | L9: =IF(AND(Q9="",W9="",Z9="",AC9=""),"",SUM(Q9,W9,Z9,AC9)) -> 11 | O9: =IF(T7="","",T7) -> 2 | P9: - | Q9: =IF(R7="","",R7) -> 5 | U9: 5 | V9: - | W9: 1 | X9: 6 | Y9: - | Z9: 2 | AA9: 2 | AB9: - | AC9: 3
A10: =M10 -> 5 | C10: 3 | D10: =参加チーム名!E10 -> 水戸VICTORY Jr. | E10: =IF(AND(O10="",R10="",X10="",AA10=""),"",COUNTIF(O10:AC10,"○")) -> 0 | F10: - | G10: {=IF(AND(O10="",R10="",X10:AC10="",AA10=""),"",COUNTIF(O10:AC10,"△"))} -> 0 | H10: - | I10: =IF(AND(O10="",R10="",X10="",AA10=""),"",COUNTIF(O10:AC10,"×")) -> 4 | J10: =IF(E10="","",E10*2+G10*1) -> 0 | K10: 内 | L10: =IF(AND(O11="",R11="",X11="",AA11=""),"",SUM(O11,R11,X11,AA11,)) -> 6 | M10: 5 | O10: =IF(AND(O11="",Q11=""),"",IF(O11>Q11,"○",IF(O11<Q11,"×","△"))) -> × | R10: =IF(AND(R11="",T11=""),"",IF(R11>T11,"○",IF(R11<T11,"×","△"))) -> × | X10: =IF(AND(X11="",Z11=""),"",IF(X11>Z11,"○",IF(X11<Z11,"×","△"))) -> × | AA10: =IF(AND(AA11="",AC11=""),"",IF(AA11>AC11,"○",IF(AA11<AC11,"×","△"))) -> ×
A11: =M11 -> 0 | K11: 外 | L11: =IF(AND(Q11="",T11="",Z11="",AC11=""),"",SUM(Q11,T11,Z11,AC11)) -> 21 | O11: =IF(W7="","",W7) -> 1 | P11: - | Q11: =IF(U7="","",U7) -> 7 | R11: =IF(W9="","",W9) -> 1 | S11: - | T11: =IF(U9="","",U9) -> 5 | X11: 3 | Y11: - | Z11: 5 | AA11: 1 | AB11: - | AC11: 4
A12: =M12 -> 4 | C12: 4 | D12: =参加チーム名!E11 -> 竹島フェニックス Jr. | E12: =IF(AND(R12="",U12="",O12="",AA12=""),"",COUNTIF(O12:AC12,"○")) -> 1 | F12: - | G12: =IF(AND(O12="",R12="",U12="",AA12=""),"",COUNTIF(O12:AC12,"△")) -> 0 | H12: - | I12: =IF(AND(R12="",U12="",O12="",AA12=""),"",COUNTIF(O12:AC12,"×")) -> 3 | J12: =IF(E12="","",E12*2+G12*1) -> 2 | K12: 内 | L12: =IF(AND(O13="",R13="",U13="",AA13=""),"",SUM(O13,R13,U13,AA13,)) -> 10 | M12: 4 | O12: =IF(AND(O13="",Q13=""),"",IF(O13>Q13,"○",IF(O13<Q13,"×","△"))) -> × | R12: =IF(AND(R13="",T13=""),"",IF(R13>T13,"○",IF(R13<T13,"×","△"))) -> × | U12: =IF(AND(U13="",W13=""),"",IF(U13>W13,"○",IF(U13<W13,"×","△"))) -> ○ | AA12: =IF(AND(AA13="",AC13=""),"",IF(AA13>AC13,"○",IF(AA13<AC13,"×","△"))) -> ×
A13: =M13 -> 0 | K13: 外 | L13: =IF(AND(Q13="",T13="",W13="",AC13=""),"",SUM(Q13,T13,W13,AC13)) -> 23 | O13: =IF(Z7="","",Z7) -> 0 | P13: - | Q13: =IF(X7="","",X7) -> 8 | R13: =IF(Z9="","",Z9) -> 2 | S13: - | T13: =IF(X9="","",X9) -> 6 | U13: =IF(Z11="","",Z11) -> 5 | V13: - | W13: =IF(X11="","",X11) -> 3 | AA13: 3 | AB13: - | AC13: 6
A14: =M14 -> 2 | C14: 5 | D14: =参加チーム名!E12 -> ＵＬＴＩＭＡＴＥ ＳＭＩＬＥ Ｊｒ. | E14: =IF(AND(R14="",U14="",X14="",O14=""),"",COUNTIF(O14:AC14,"○")) -> 3 | F14: - | G14: =IF(AND(O14="",R14="",U14="",X14=""),"",COUNTIF(O14:Z14,"△")) -> 0 | H14: - | I14: =IF(AND(R14="",U14="",X14="",O14=""),"",COUNTIF(O14:AC14,"×")) -> 1 | J14: =IF(E14="","",E14*2+G14*1) -> 6 | K14: 内 | L14: =IF(AND(O15="",R15="",U15="",X15=""),"",SUM(O15,R15,U15,X15,)) -> 13 | M14: 2 | O14: =IF(AND(O15="",Q15=""),"",IF(O15>Q15,"○",IF(O15<Q15,"×","△"))) -> × | R14: =IF(AND(R15="",T15=""),"",IF(R15>T15,"○",IF(R15<T15,"×","△"))) -> ○ | U14: =IF(AND(U15="",W15=""),"",IF(U15>W15,"○",IF(U15<W15,"×","△"))) -> ○ | X14: =IF(AND(X15="",Z15=""),"",IF(X15>Z15,"○",IF(X15<Z15,"×","△"))) -> ○
A15: =M15 -> 0 | K15: 外 | L15: =IF(AND(Q15="",T15="",W15="",Z15=""),"",SUM(Q15,T15,W15,Z15)) -> 10 | P15: - | Q15: =IF(AA7="","",AA7) -> 4 | R15: =IF(AC9="","",AC9) -> 3 | S15: - | T15: =IF(AA9="","",AA9) -> 2 | U15: =IF(AC11="","",AC11) -> 4 | V15: - | W15: =IF(AA11="","",AA11) -> 1 | X15: =IF(AC13="","",AC13) -> 6 | Y15: - | Z15: =IF(AA13="","",AA13) -> 3
B17: B | E17: 勝-分-敗 | J17: 勝点 | K17: 人数 | M17: 順位 | O17: 6 | R17: 7 | U17: 8 | X17: 9 | AA17: 10
A18: =M18 -> 4 | C18: 6 | D18: =参加チーム名!E13 -> 笠間ピュアスターズ Jr | E18: =IF(AND(R18="",U18="",X18="",AA18=""),"",COUNTIF(R18:AC18,"○")) -> 1 | F18: - | G18: =IF(AND(R18="",U18="",X18="",AA18=""),"",COUNTIF(R18:AC18,"△")) -> 1 | H18: - | I18: =IF(AND(R18="",U18="",X18="",AA18=""),"",COUNTIF(R18:AC18,"×")) -> 2 | J18: =IF(E18="","",E18*2+G18*1) -> 3 | K18: 内 | L18: =IF(AND(R19="",U19="",X19="",AA19=""),"",SUM(R19,U19,X19,AA19,)) -> 11 | M18: 4 | R18: =IF(AND(R19="",T19=""),"",IF(R19>T19,"○",IF(R19<T19,"×","△"))) -> ○ | U18: =IF(AND(U19="",W19=""),"",IF(U19>W19,"○",IF(U19<W19,"×","△"))) -> △ | X18: =IF(AND(X19="",Z19=""),"",IF(X19>Z19,"○",IF(X19<Z19,"×","△"))) -> × | AA18: =IF(AND(AA19="",AC19=""),"",IF(AA19>AC19,"○",IF(AA19<AC19,"×","△"))) -> ×
A19: =M19 -> 0 | K19: 外 | L19: =IF(AND(T19="",W19="",Z19="",AC19=""),"",SUM(T19,W19,Z19,AC19)) -> 21 | R19: 5 | S19: - | T19: 4 | U19: 3 | V19: - | W19: 3 | X19: 0 | Y19: - | Z19: 8 | AA19: 3 | AB19: - | AC19: 6
A20: =M20 -> 3 | C20: 7 | D20: =参加チーム名!E14 -> 梅が丘ドッジボールクラブＪｒ | E20: =IF(AND(O20="",U20="",X20="",AA20=""),"",COUNTIF(O20:AC20,"○")) -> 1 | F20: - | G20: {=IF(AND(O20="",U20="",X20:AC20="",AA20=""),"",COUNTIF(O20:AC20,"△"))} -> 1 | H20: - | I20: =IF(AND(O20="",U20="",X20="",AA20=""),"",COUNTIF(O20:AC20,"×")) -> 2 | J20: =IF(E20="","",E20*2+G20*1) -> 3 | K20: 内 | L20: =IF(AND(O21="",U21="",X21="",AA21=""),"",SUM(O21,U21,X21,AA21,)) -> 14 | M20: 3 | O20: =IF(AND(O21="",Q21=""),"",IF(O21>Q21,"○",IF(O21<Q21,"×","△"))) -> × | U20: =IF(AND(U21="",W21=""),"",IF(U21>W21,"○",IF(U21<W21,"×","△"))) -> △ | X20: =IF(AND(X21="",Z21=""),"",IF(X21>Z21,"○",IF(X21<Z21,"×","△"))) -> × | AA20: =IF(AND(AA21="",AC21=""),"",IF(AA21>AC21,"○",IF(AA21<AC21,"×","△"))) -> ○
A21: =M21 -> 0 | K21: 外 | L21: =IF(AND(Q21="",W21="",Z21="",AC21=""),"",SUM(Q21,W21,Z21,AC21)) -> 21 | O21: =IF(T19="","",T19) -> 4 | P21: - | Q21: =IF(R19="","",R19) -> 5 | U21: 5 | V21: - | W21: 5 | X21: 0 | Y21: - | Z21: 7 | AA21: 5 | AB21: - | AC21: 4
A22: =M22 -> 5 | C22: 8 | D22: =参加チーム名!E15 -> 吉田☆ラッキースターズJr. | E22: =IF(AND(O22="",R22="",X22="",AA22=""),"",COUNTIF(O22:AC22,"○")) -> 0 | F22: - | G22: {=IF(AND(O22="",R22="",X22:AC22="",AA22=""),"",COUNTIF(O22:AC22,"△"))} -> 2 | H22: - | I22: =IF(AND(O22="",R22="",X22="",AA22=""),"",COUNTIF(O22:AC22,"×")) -> 2 | J22: =IF(E22="","",E22*2+G22*1) -> 2 | K22: 内 | L22: =IF(AND(O23="",R23="",X23="",AA23=""),"",SUM(O23,R23,X23,AA23,)) -> 16 | M22: 5 | O22: =IF(AND(O23="",Q23=""),"",IF(O23>Q23,"○",IF(O23<Q23,"×","△"))) -> △ | R22: =IF(AND(R23="",T23=""),"",IF(R23>T23,"○",IF(R23<T23,"×","△"))) -> △ | X22: =IF(AND(X23="",Z23=""),"",IF(X23>Z23,"○",IF(X23<Z23,"×","△"))) -> × | AA22: =IF(AND(AA23="",AC23=""),"",IF(AA23>AC23,"○",IF(AA23<AC23,"×","△"))) -> ×
A23: =M23 -> 0 | K23: 外 | L23: =IF(AND(Q23="",T23="",Z23="",AC23=""),"",SUM(Q23,T23,Z23,AC23)) -> 21 | O23: =IF(W19="","",W19) -> 3 | P23: - | Q23: =IF(U19="","",U19) -> 3 | R23: =IF(W21="","",W21) -> 5 | S23: - | T23: =IF(U21="","",U21) -> 5 | X23: 4 | Y23: - | Z23: 7 | AA23: 4 | AB23: - | AC23: 6
A24: =M24 -> 1 | C24: 9 | D24: =参加チーム名!E16 -> トライ∞ジュニア | E24: =IF(AND(R24="",U24="",O24="",AA24=""),"",COUNTIF(O24:AC24,"○")) -> 4 | F24: - | G24: =IF(AND(O24="",R24="",U24="",AA24=""),"",COUNTIF(O24:AC24,"△")) -> 0 | H24: - | I24: =IF(AND(R24="",U24="",O24="",AA24=""),"",COUNTIF(O24:AC24,"×")) -> 0 | J24: =IF(E24="","",E24*2+G24*1) -> 8 | K24: 内 | L24: =IF(AND(O25="",R25="",U25="",AA25=""),"",SUM(O25,R25,U25,AA25,)) -> 29 | M24: 1 | O24: =IF(AND(O25="",Q25=""),"",IF(O25>Q25,"○",IF(O25<Q25,"×","△"))) -> ○ | R24: =IF(AND(R25="",T25=""),"",IF(R25>T25,"○",IF(R25<T25,"×","△"))) -> ○ | U24: =IF(AND(U25="",W25=""),"",IF(U25>W25,"○",IF(U25<W25,"×","△"))) -> ○ | AA24: =IF(AND(AA25="",AC25=""),"",IF(AA25>AC25,"○",IF(AA25<AC25,"×","△"))) -> ○
A25: =M25 -> 0 | K25: 外 | L25: =IF(AND(Q25="",T25="",W25="",AC25=""),"",SUM(Q25,T25,W25,AC25)) -> 7 | O25: =IF(Z19="","",Z19) -> 8 | P25: - | Q25: =IF(X19="","",X19) -> 0 | R25: =IF(Z21="","",Z21) -> 7 | S25: - | T25: =IF(X21="","",X21) -> 0 | U25: =IF(Z23="","",Z23) -> 7 | V25: - | W25: =IF(X23="","",X23) -> 4 | AA25: 7 | AB25: - | AC25: 3
A26: =M26 -> 2 | C26: 10 | D26: =参加チーム名!E17 -> 河和田ボンバーズ・J | E26: =IF(AND(R26="",U26="",X26="",O26=""),"",COUNTIF(O26:AC26,"○")) -> 2 | F26: - | G26: =IF(AND(O26="",R26="",U26="",X26=""),"",COUNTIF(O26:Z26,"△")) -> 0 | H26: - | I26: =IF(AND(R26="",U26="",X26="",O26=""),"",COUNTIF(O26:AC26,"×")) -> 2 | J26: =IF(E26="","",E26*2+G26*1) -> 4 | K26: 内 | L26: =IF(AND(O27="",R27="",U27="",X27=""),"",SUM(O27,R27,U27,X27,)) -> 19 | M26: 2 | O26: =IF(AND(O27="",Q27=""),"",IF(O27>Q27,"○",IF(O27<Q27,"×","△"))) -> ○ | R26: =IF(AND(R27="",T27=""),"",IF(R27>T27,"○",IF(R27<T27,"×","△"))) -> × | U26: =IF(AND(U27="",W27=""),"",IF(U27>W27,"○",IF(U27<W27,"×","△"))) -> ○ | X26: =IF(AND(X27="",Z27=""),"",IF(X27>Z27,"○",IF(X27<Z27,"×","△"))) -> ×
A27: =M27 -> 0 | K27: 外 | L27: =IF(AND(Q27="",T27="",W27="",Z27=""),"",SUM(Q27,T27,W27,Z27)) -> 19 | O27: =IF(AC19="","",AC19) -> 6 | P27: - | Q27: =IF(AA19="","",AA19) -> 3 | R27: =IF(AC21="","",AC21) -> 4 | S27: - | T27: =IF(AA21="","",AA21) -> 5 | U27: =IF(AC23="","",AC23) -> 6 | V27: - | W27: =IF(AA23="","",AA23) -> 4 | X27: =IF(AC25="","",AC25) -> 3 | Y27: - | Z27: =IF(AA25="","",AA25) -> 7
B30: 【 キッズの部 】
B32: C | E32: 勝-分-敗 | J32: 勝点 | K32: 人数 | M32: 順位 | O32: 11 | R32: 12 | U32: 13 | X32: 14 | AA32: 15
A33: =M33 -> 4 | C33: 11 | D33: =参加チーム名!E21 -> 笠間ピュアスターズ キッズ | E33: =IF(AND(R33="",U33="",X33="",AA33=""),"",COUNTIF(R33:AC33,"○")) -> 1 | F33: - | G33: =IF(AND(R33="",U33="",X33="",AA33=""),"",COUNTIF(R33:AC33,"△")) -> 0 | H33: - | I33: =IF(AND(R33="",U33="",X33="",AA33=""),"",COUNTIF(R33:AC33,"×")) -> 3 | J33: =IF(E33="","",E33*2+G33*1) -> 2 | K33: 内 | L33: =IF(AND(R34="",U34="",X34="",AA34=""),"",SUM(R34,U34,X34,AA34,)) -> 6 | M33: 4 | R33: =IF(AND(R34="",T34=""),"",IF(R34>T34,"○",IF(R34<T34,"×","△"))) -> × | U33: =IF(AND(U34="",W34=""),"",IF(U34>W34,"○",IF(U34<W34,"×","△"))) -> × | X33: =IF(AND(X34="",Z34=""),"",IF(X34>Z34,"○",IF(X34<Z34,"×","△"))) -> × | AA33: =IF(AND(AA34="",AC34=""),"",IF(AA34>AC34,"○",IF(AA34<AC34,"×","△"))) -> ○
A34: =M34 -> 0 | K34: 外 | L34: =IF(AND(T34="",W34="",Z34="",AC34=""),"",SUM(T34,W34,Z34,AC34)) -> 18 | R34: 0 | S34: - | T34: 7 | U34: 1 | V34: - | W34: 4 | X34: 0 | Y34: - | Z34: 6 | AA34: 5 | AB34: - | AC34: 1
A35: =M35 -> 1 | C35: 12 | D35: =参加チーム名!E22 -> OBT Kids 風神 | E35: =IF(AND(O35="",U35="",X35="",AA35=""),"",COUNTIF(O35:AC35,"○")) -> 4 | F35: - | G35: {=IF(AND(O35="",U35="",X35:AC35="",AA35=""),"",COUNTIF(O35:AC35,"△"))} -> 0 | H35: - | I35: =IF(AND(O35="",U35="",X35="",AA35=""),"",COUNTIF(O35:AC35,"×")) -> 0 | J35: =IF(E35="","",E35*2+G35*1) -> 8 | K35: 内 | L35: =IF(AND(O36="",U36="",X36="",AA36=""),"",SUM(O36,U36,X36,AA36,)) -> 24 | M35: 1 | O35: =IF(AND(O36="",Q36=""),"",IF(O36>Q36,"○",IF(O36<Q36,"×","△"))) -> ○ | U35: =IF(AND(U36="",W36=""),"",IF(U36>W36,"○",IF(U36<W36,"×","△"))) -> ○ | X35: =IF(AND(X36="",Z36=""),"",IF(X36>Z36,"○",IF(X36<Z36,"×","△"))) -> ○ | AA35: =IF(AND(AA36="",AC36=""),"",IF(AA36>AC36,"○",IF(AA36<AC36,"×","△"))) -> ○
A36: =M36 -> 0 | K36: 外 | L36: =IF(AND(Q36="",W36="",Z36="",AC36=""),"",SUM(Q36,W36,Z36,AC36)) -> 3 | O36: =IF(T34="","",T34) -> 7 | P36: - | Q36: =IF(R34="","",R34) -> 0 | U36: 6 | V36: - | W36: 0 | X36: 4 | Y36: - | Z36: 3 | AA36: 7 | AB36: - | AC36: 0
A37: =M37 -> 3 | C37: 13 | D37: =参加チーム名!E23 -> 茨城KOSMOキッズ | E37: =IF(AND(O37="",R37="",X37="",AA37=""),"",COUNTIF(O37:AC37,"○")) -> 2 | F37: - | G37: {=IF(AND(O37="",R37="",X37:AC37="",AA37=""),"",COUNTIF(O37:AC37,"△"))} -> 0 | H37: - | I37: =IF(AND(O37="",R37="",X37="",AA37=""),"",COUNTIF(O37:AC37,"×")) -> 2 | J37: =IF(E37="","",E37*2+G37*1) -> 4 | K37: 内 | L37: =IF(AND(O38="",R38="",X38="",AA38=""),"",SUM(O38,R38,X38,AA38,)) -> 8 | M37: 3 | O37: =IF(AND(O38="",Q38=""),"",IF(O38>Q38,"○",IF(O38<Q38,"×","△"))) -> ○ | R37: =IF(AND(R38="",T38=""),"",IF(R38>T38,"○",IF(R38<T38,"×","△"))) -> × | X37: =IF(AND(X38="",Z38=""),"",IF(X38>Z38,"○",IF(X38<Z38,"×","△"))) -> × | AA37: =IF(AND(AA38="",AC38=""),"",IF(AA38>AC38,"○",IF(AA38<AC38,"×","△"))) -> ○
A38: =M38 -> 0 | K38: 外 | L38: =IF(AND(Q38="",T38="",Z38="",AC38=""),"",SUM(Q38,T38,Z38,AC38)) -> 12 | O38: =IF(W34="","",W34) -> 4 | P38: - | Q38: =IF(U34="","",U34) -> 1 | R38: =IF(W36="","",W36) -> 0 | S38: - | T38: =IF(U36="","",U36) -> 6 | X38: 0 | Y38: - | Z38: 5 | AA38: 4 | AB38: - | AC38: 0
A39: =M39 -> 2 | C39: 14 | D39: =参加チーム名!E24 -> OBT Kids 雷神 | E39: =IF(AND(R39="",U39="",O39="",AA39=""),"",COUNTIF(O39:AC39,"○")) -> 3 | F39: - | G39: =IF(AND(O39="",R39="",U39="",AA39=""),"",COUNTIF(O39:AC39,"△")) -> 0 | H39: - | I39: =IF(AND(R39="",U39="",O39="",AA39=""),"",COUNTIF(O39:AC39,"×")) -> 1 | J39: =IF(E39="","",E39*2+G39*1) -> 6 | K39: 内 | L39: =IF(AND(O40="",R40="",U40="",AA40=""),"",SUM(O40,R40,U40,AA40,)) -> 21 | M39: 2 | O39: =IF(AND(O40="",Q40=""),"",IF(O40>Q40,"○",IF(O40<Q40,"×","△"))) -> ○ | R39: =IF(AND(R40="",T40=""),"",IF(R40>T40,"○",IF(R40<T40,"×","△"))) -> × | U39: =IF(AND(U40="",W40=""),"",IF(U40>W40,"○",IF(U40<W40,"×","△"))) -> ○ | AA39: =IF(AND(AA40="",AC40=""),"",IF(AA40>AC40,"○",IF(AA40<AC40,"×","△"))) -> ○
A40: =M40 -> 0 | K40: 外 | L40: =IF(AND(Q40="",T40="",W40="",AC40=""),"",SUM(Q40,T40,W40,AC40)) -> 4 | O40: =IF(Z34="","",Z34) -> 6 | P40: - | Q40: =IF(X34="","",X34) -> 0 | R40: =IF(Z36="","",Z36) -> 3 | S40: - | T40: =IF(X36="","",X36) -> 4 | U40: =IF(Z38="","",Z38) -> 5 | V40: - | W40: =IF(X38="","",X38) -> 0 | AA40: 7 | AB40: - | AC40: 0
A41: =M41 -> 5 | C41: 15 | D41: =参加チーム名!E25 -> 河和田ボンバーズ・kids | E41: =IF(AND(R41="",U41="",X41="",O41=""),"",COUNTIF(O41:AC41,"○")) -> 0 | F41: - | G41: =IF(AND(O41="",R41="",U41="",X41=""),"",COUNTIF(O41:Z41,"△")) -> 0 | H41: - | I41: =IF(AND(R41="",U41="",X41="",O41=""),"",COUNTIF(O41:AC41,"×")) -> 4 | J41: =IF(E41="","",E41*2+G41*1) -> 0 | K41: 内 | L41: =IF(AND(O42="",R42="",U42="",X42=""),"",SUM(O42,R42,U42,X42,)) -> 1 | M41: 5 | O41: =IF(AND(O42="",Q42=""),"",IF(O42>Q42,"○",IF(O42<Q42,"×","△"))) -> × | R41: =IF(AND(R42="",T42=""),"",IF(R42>T42,"○",IF(R42<T42,"×","△"))) -> × | U41: =IF(AND(U42="",W42=""),"",IF(U42>W42,"○",IF(U42<W42,"×","△"))) -> × | X41: =IF(AND(X42="",Z42=""),"",IF(X42>Z42,"○",IF(X42<Z42,"×","△"))) -> ×
A42: =M42 -> 0 | K42: 外 | L42: =IF(AND(Q42="",T42="",W42="",Z42=""),"",SUM(Q42,T42,W42,Z42)) -> 23 | O42: =IF(AC34="","",AC34) -> 1 | P42: - | Q42: =IF(AA34="","",AA34) -> 5 | R42: =IF(AC36="","",AC36) -> 0 | S42: - | T42: =IF(AA36="","",AA36) -> 7 | U42: =IF(AC38="","",AC38) -> 0 | V42: - | W42: =IF(AA38="","",AA38) -> 4 | X42: =IF(AC40="","",AC40) -> 0 | Y42: - | Z42: =IF(AA40="","",AA40) -> 7
B44: 【フレンドリーの部 】
B46: D | E46: 勝-分-敗 | J46: 勝点 | K46: 人数 | M46: 順位 | O46: 21 | R46: 22 | U46: 23 | X46: 24 | AA46: 25
A47: =M47 -> 4 | C47: 21 | D47: =参加チーム名!E29 -> 竹島フェニックス | E47: =IF(AND(R47="",U47="",X47="",AA47=""),"",COUNTIF(R47:AC47,"○")) -> 1 | F47: - | G47: =IF(AND(R47="",U47="",X47="",AA47=""),"",COUNTIF(R47:AC47,"△")) -> 0 | H47: - | I47: =IF(AND(R47="",U47="",X47="",AA47=""),"",COUNTIF(R47:AC47,"×")) -> 2 | J47: =IF(E47="","",E47*2+G47*1) -> 2 | K47: 内 | L47: =IF(AND(R48="",U48="",X48="",AA48=""),"",SUM(R48,U48,X48,AA48,)) -> 11 | M47: 4 | R47: =IF(AND(R48="",T48=""),"",IF(R48>T48,"○",IF(R48<T48,"×","△"))) | U47: =IF(AND(U48="",W48=""),"",IF(U48>W48,"○",IF(U48<W48,"×","△"))) -> × | X47: =IF(AND(X48="",Z48=""),"",IF(X48>Z48,"○",IF(X48<Z48,"×","△"))) -> × | AA47: =IF(AND(AA48="",AC48=""),"",IF(AA48>AC48,"○",IF(AA48<AC48,"×","△"))) -> ○
A48: =M48 -> 0 | K48: 外 | L48: =IF(AND(T48="",W48="",Z48="",AC48=""),"",SUM(T48,W48,Z48,AC48)) -> 15 | S48: - | U48: 3 | V48: - | W48: 6 | X48: 1 | Y48: - | Z48: 5 | AA48: 7 | AB48: - | AC48: 4
A49: =M49 -> 0 | C49: 22 | D49: =参加チーム名!E30 -> 笠間リトルフォックス | E49: =IF(AND(O49="",U49="",X49="",AA49=""),"",COUNTIF(O49:AC49,"○")) | F49: - | G49: {=IF(AND(O49="",U49="",X49:AC49="",AA49=""),"",COUNTIF(O49:AC49,"△"))} | H49: - | I49: =IF(AND(O49="",U49="",X49="",AA49=""),"",COUNTIF(O49:AC49,"×")) | J49: =IF(E49="","",E49*2+G49*1) | K49: 内 | L49: =IF(AND(O50="",U50="",X50="",AA50=""),"",SUM(O50,U50,X50,AA50,)) | O49: =IF(AND(O50="",Q50=""),"",IF(O50>Q50,"○",IF(O50<Q50,"×","△"))) | U49: =IF(AND(U50="",W50=""),"",IF(U50>W50,"○",IF(U50<W50,"×","△"))) | X49: =IF(AND(X50="",Z50=""),"",IF(X50>Z50,"○",IF(X50<Z50,"×","△"))) | AA49: =IF(AND(AA50="",AC50=""),"",IF(AA50>AC50,"○",IF(AA50<AC50,"×","△")))
A50: =M50 -> 0 | K50: 外 | L50: =IF(AND(Q50="",W50="",Z50="",AC50=""),"",SUM(Q50,W50,Z50,AC50)) | O50: =IF(T48="","",T48) | P50: - | Q50: =IF(R48="","",R48) | V50: - | Y50: - | AB50: -
A51: =M51 -> 1 | C51: 23 | D51: =参加チーム名!E31 -> ＵＬＴＩＭＡＴＥ ＳＭＩＬＥ | E51: =IF(AND(O51="",R51="",X51="",AA51=""),"",COUNTIF(O51:AC51,"○")) -> 2 | F51: - | G51: {=IF(AND(O51="",R51="",X51:AC51="",AA51=""),"",COUNTIF(O51:AC51,"△"))} -> 0 | H51: - | I51: =IF(AND(O51="",R51="",X51="",AA51=""),"",COUNTIF(O51:AC51,"×")) -> 1 | J51: =IF(E51="","",E51*2+G51*1) -> 4 | K51: 内 | L51: =IF(AND(O52="",R52="",X52="",AA52=""),"",SUM(O52,R52,X52,AA52,)) -> 14 | M51: 1 | O51: =IF(AND(O52="",Q52=""),"",IF(O52>Q52,"○",IF(O52<Q52,"×","△"))) -> ○ | R51: =IF(AND(R52="",T52=""),"",IF(R52>T52,"○",IF(R52<T52,"×","△"))) | X51: =IF(AND(X52="",Z52=""),"",IF(X52>Z52,"○",IF(X52<Z52,"×","△"))) -> ○ | AA51: =IF(AND(AA52="",AC52=""),"",IF(AA52>AC52,"○",IF(AA52<AC52,"×","△"))) -> ×
A52: =M52 -> 0 | K52: 外 | L52: =IF(AND(Q52="",T52="",Z52="",AC52=""),"",SUM(Q52,T52,Z52,AC52)) -> 13 | O52: =IF(W48="","",W48) -> 6 | P52: - | Q52: =IF(U48="","",U48) -> 3 | R52: =IF(W50="","",W50) | S52: - | T52: =IF(U50="","",U50) | X52: 6 | Y52: - | Z52: 3 | AA52: 2 | AB52: - | AC52: 7
A53: =M53 -> 2 | C53: 24 | D53: =参加チーム名!E32 -> 水戸VICTORY | E53: =IF(AND(R53="",U53="",O53="",AA53=""),"",COUNTIF(O53:AC53,"○")) -> 2 | F53: - | G53: =IF(AND(O53="",R53="",U53="",AA53=""),"",COUNTIF(O53:AC53,"△")) -> 0 | H53: - | I53: =IF(AND(R53="",U53="",O53="",AA53=""),"",COUNTIF(O53:AC53,"×")) -> 1 | J53: =IF(E53="","",E53*2+G53*1) -> 4 | K53: 内 | L53: =IF(AND(O54="",R54="",U54="",AA54=""),"",SUM(O54,R54,U54,AA54,)) -> 13 | M53: 2 | O53: =IF(AND(O54="",Q54=""),"",IF(O54>Q54,"○",IF(O54<Q54,"×","△"))) -> ○ | R53: =IF(AND(R54="",T54=""),"",IF(R54>T54,"○",IF(R54<T54,"×","△"))) | U53: =IF(AND(U54="",W54=""),"",IF(U54>W54,"○",IF(U54<W54,"×","△"))) -> × | AA53: =IF(AND(AA54="",AC54=""),"",IF(AA54>AC54,"○",IF(AA54<AC54,"×","△"))) -> ○
A54: =M54 -> 0 | K54: 外 | L54: =IF(AND(Q54="",T54="",W54="",AC54=""),"",SUM(Q54,T54,W54,AC54)) -> 9 | O54: =IF(Z48="","",Z48) -> 5 | P54: - | Q54: =IF(X48="","",X48) -> 1 | R54: =IF(Z50="","",Z50) | S54: - | T54: =IF(X50="","",X50) | U54: =IF(Z52="","",Z52) -> 3 | V54: - | W54: =IF(X52="","",X52) -> 6 | AA54: 5 | AB54: - | AC54: 2
A55: =M55 -> 3 | C55: 25 | D55: =参加チーム名!E33 -> 梅が丘子ども会ＤＢ | E55: =IF(AND(R55="",U55="",X55="",O55=""),"",COUNTIF(O55:AC55,"○")) -> 1 | F55: - | G55: =IF(AND(O55="",R55="",U55="",X55=""),"",COUNTIF(O55:Z55,"△")) -> 0 | H55: - | I55: =IF(AND(R55="",U55="",X55="",O55=""),"",COUNTIF(O55:AC55,"×")) -> 2 | J55: =IF(E55="","",E55*2+G55*1) -> 2 | K55: 内 | L55: =IF(AND(O56="",R56="",U56="",X56=""),"",SUM(O56,R56,U56,X56,)) -> 13 | M55: 3 | O55: =IF(AND(O56="",Q56=""),"",IF(O56>Q56,"○",IF(O56<Q56,"×","△"))) -> × | R55: =IF(AND(R56="",T56=""),"",IF(R56>T56,"○",IF(R56<T56,"×","△"))) | U55: =IF(AND(U56="",W56=""),"",IF(U56>W56,"○",IF(U56<W56,"×","△"))) -> ○ | X55: =IF(AND(X56="",Z56=""),"",IF(X56>Z56,"○",IF(X56<Z56,"×","△"))) -> ×
A56: =M56 -> 0 | K56: 外 | L56: =IF(AND(Q56="",T56="",W56="",Z56=""),"",SUM(Q56,T56,W56,Z56)) -> 14 | O56: =IF(AC48="","",AC48) -> 4 | P56: - | Q56: =IF(AA48="","",AA48) -> 7 | R56: =IF(AC50="","",AC50) | S56: - | T56: =IF(AA50="","",AA50) | U56: =IF(AC52="","",AC52) -> 7 | V56: - | W56: =IF(AA52="","",AA52) -> 2 | X56: =IF(AC54="","",AC54) -> 2 | Y56: - | Z56: =IF(AA54="","",AA54) -> 5
B58: E | E58: 勝-分-敗 | J58: 勝点 | K58: 人数 | M58: 順位 | O58: 26 | R58: 27 | U58: 28 | X58: 29
A59: =M59 -> 1 | C59: 26 | D59: =参加チーム名!E34 -> ST Enjoys | E59: =IF(AND(R59="",U59="",X59="",AA59=""),"",COUNTIF(R59:AC59,"○")) -> 2 | F59: - | G59: =IF(AND(R59="",U59="",X59="",AA59=""),"",COUNTIF(R59:AC59,"△")) -> 0 | H59: - | I59: =IF(AND(R59="",U59="",X59="",AA59=""),"",COUNTIF(R59:AC59,"×")) -> 1 | J59: =IF(E59="","",E59*2+G59*1) -> 4 | K59: 内 | L59: =IF(AND(R60="",U60="",X60="",AA60=""),"",SUM(R60,U60,X60,AA60,)) -> 15 | M59: 1 | R59: =IF(AND(R60="",T60=""),"",IF(R60>T60,"○",IF(R60<T60,"×","△"))) -> × | U59: =IF(AND(U60="",W60=""),"",IF(U60>W60,"○",IF(U60<W60,"×","△"))) -> ○ | X59: =IF(AND(X60="",Z60=""),"",IF(X60>Z60,"○",IF(X60<Z60,"×","△"))) -> ○
A60: =M60 -> 0 | K60: 外 | L60: =IF(AND(T60="",W60="",Z60="",AC60=""),"",SUM(T60,W60,Z60,AC60)) -> 7 | R60: 4 | S60: - | T60: 5 | U60: 6 | V60: - | W60: 0 | X60: 5 | Y60: - | Z60: 2
A61: =M61 -> 4 | C61: 27 | D61: =参加チーム名!E35 -> 乙戸ブルーサンダース | E61: =IF(AND(O61="",U61="",X61="",AA61=""),"",COUNTIF(O61:AC61,"○")) -> 1 | F61: - | G61: {=IF(AND(O61="",U61="",X61:AC61="",AA61=""),"",COUNTIF(O61:AC61,"△"))} -> 0 | H61: - | I61: =IF(AND(O61="",U61="",X61="",AA61=""),"",COUNTIF(O61:AC61,"×")) -> 2 | J61: =IF(E61="","",E61*2+G61*1) -> 2 | K61: 内 | L61: =IF(AND(O62="",U62="",X62="",AA62=""),"",SUM(O62,U62,X62,AA62,)) -> 7 | M61: 4 | O61: =IF(AND(O62="",Q62=""),"",IF(O62>Q62,"○",IF(O62<Q62,"×","△"))) -> ○ | U61: =IF(AND(U62="",W62=""),"",IF(U62>W62,"○",IF(U62<W62,"×","△"))) -> × | X61: =IF(AND(X62="",Z62=""),"",IF(X62>Z62,"○",IF(X62<Z62,"×","△"))) -> ×
A62: =M62 -> 0 | K62: 外 | L62: =IF(AND(Q62="",W62="",Z62="",AC62=""),"",SUM(Q62,W62,Z62,AC62)) -> 12 | O62: =IF(T60="","",T60) -> 5 | P62: - | Q62: =IF(R60="","",R60) -> 4 | U62: 0 | V62: - | W62: 3 | X62: 2 | Y62: - | Z62: 5
A63: =M63 -> 2 | C63: 28 | D63: =参加チーム名!E36 -> 笠間ピュアスターズ | E63: =IF(AND(O63="",R63="",X63="",AA63=""),"",COUNTIF(O63:AC63,"○")) -> 2 | F63: - | G63: {=IF(AND(O63="",R63="",X63:AC63="",AA63=""),"",COUNTIF(O63:AC63,"△"))} -> 0 | H63: - | I63: =IF(AND(O63="",R63="",X63="",AA63=""),"",COUNTIF(O63:AC63,"×")) -> 1 | J63: =IF(E63="","",E63*2+G63*1) -> 4 | K63: 内 | L63: =IF(AND(O64="",R64="",X64="",AA64=""),"",SUM(O64,R64,X64,AA64,)) -> 8 | M63: 2 | O63: =IF(AND(O64="",Q64=""),"",IF(O64>Q64,"○",IF(O64<Q64,"×","△"))) -> × | R63: =IF(AND(R64="",T64=""),"",IF(R64>T64,"○",IF(R64<T64,"×","△"))) -> ○ | X63: =IF(AND(X64="",Z64=""),"",IF(X64>Z64,"○",IF(X64<Z64,"×","△"))) -> ○
A64: =M64 -> 0 | K64: 外 | L64: =IF(AND(Q64="",T64="",Z64="",AC64=""),"",SUM(Q64,T64,Z64,AC64)) -> 9 | O64: =IF(W60="","",W60) -> 0 | P64: - | Q64: =IF(U60="","",U60) -> 6 | R64: =IF(W62="","",W62) -> 3 | S64: - | T64: =IF(U62="","",U62) -> 0 | X64: 5 | Y64: - | Z64: 3
A65: =M65 -> 3 | C65: 29 | D65: =参加チーム名!E37 -> よつわキッズ | E65: =IF(AND(R65="",U65="",O65="",AA65=""),"",COUNTIF(O65:AC65,"○")) -> 1 | F65: - | G65: =IF(AND(O65="",R65="",U65="",AA65=""),"",COUNTIF(O65:AC65,"△")) -> 0 | H65: - | I65: =IF(AND(R65="",U65="",O65="",AA65=""),"",COUNTIF(O65:AC65,"×")) -> 2 | J65: =IF(E65="","",E65*2+G65*1) -> 2 | K65: 内 | L65: =IF(AND(O66="",R66="",U66="",AA66=""),"",SUM(O66,R66,U66,AA66,)) -> 10 | M65: 3 | O65: =IF(AND(O66="",Q66=""),"",IF(O66>Q66,"○",IF(O66<Q66,"×","△"))) -> × | R65: =IF(AND(R66="",T66=""),"",IF(R66>T66,"○",IF(R66<T66,"×","△"))) -> ○ | U65: =IF(AND(U66="",W66=""),"",IF(U66>W66,"○",IF(U66<W66,"×","△"))) -> ×
A66: =M66 -> 0 | K66: 外 | L66: =IF(AND(Q66="",T66="",W66="",AC66=""),"",SUM(Q66,T66,W66,AC66)) -> 12 | O66: =IF(Z60="","",Z60) -> 2 | P66: - | Q66: =IF(X60="","",X60) -> 5 | R66: =IF(Z62="","",Z62) -> 5 | S66: - | T66: =IF(X62="","",X62) -> 2 | U66: =IF(Z64="","",Z64) -> 3 | V66: - | W66: =IF(X64="","",X64) -> 5

Sheet トーナメントジュニア＆キッズ
B1: かさまジュニア・キッズドッジボール大会
G5: ジュニアの部 決勝トーナメント | V5: 優勝 | X5: =X27 -> トライ∞ジュニア
L6: 決勝のみ３セットマッチ | V6: 準優勝 | X6: =H10 -> ST Enjoys Jr
G10: A1位 | H10: =リーグ表!D6 -> ST Enjoys Jr
R11: 6
P13: A26
G14: A5位 | H14: =リーグ表!D10 -> 水戸VICTORY Jr. | T14: 3
O15: 5
D16: =H18 -> 笠間ピュアスターズ Jr | M16: B24 | R16: 2
A17: 1
G18: B4位 | H18: =リーグ表!D18 -> 笠間ピュアスターズ Jr | O18: 1
R19: A34
B20: 交流戦 A31 | V20: 0(4,2)
G22: A3位 | H22: =リーグ表!D8 -> 茨城KOSMO Jr.
R23: 5
A24: 5 | D24: =H22 -> 茨城KOSMO Jr. | P24: A27 | T24: 1
G26: B2位 | H26: =リーグ表!D26 -> 河和田ボンバーズ・J | R26: 6
T27: B35 | X27: =H46 -> トライ∞ジュニア
G30: A2位 | H30: =リーグ表!D14 -> ＵＬＴＩＭＡＴＥ ＳＭＩＬＥ Ｊｒ.
R31: 5(4)
D32: =H30 -> ＵＬＴＩＭＡＴＥ ＳＭＩＬＥ Ｊｒ. | P32: B26
A33: 2 | T33: 4
G34: B3位 | H34: =リーグ表!D20 -> 梅が丘ドッジボールクラブＪｒ | R34: 5(5)
B36: 交流戦 B31
R37: B33 | V37: 2(7,6)
G38: A4位 | H38: =リーグ表!D12 -> 竹島フェニックス Jr.
O39: 1
A40: 3 | D40: =H38 -> 竹島フェニックス Jr. | M40: B25
R41: 1
G42: B5位 | H42: =リーグ表!D22 -> 吉田☆ラッキースターズJr. | O42: 5
P43: B27 | T43: 6
G46: B１位 | H46: =リーグ表!D24 -> トライ∞ジュニア | R46: 7
G52: キッズの部 決勝トーナメント | V52: 優勝 | X52: =H73 -> OBT Kids 雷神
L53: 決勝のみ３セットマッチ | V53: 準優勝 | X53: =H57 -> OBT Kids 風神
G57: C1位 | H57: =リーグ表!D35 -> OBT Kids 風神
R58: 5
P60: A28
G61: C5位 | H61: =リーグ表!D41 -> 河和田ボンバーズ・kids | U61: 1(6,1,2)
O62: 3(2)
M63: A25 | R63: 0
A64: 3(3)
G65: C3位 | H65: =リーグ表!D37 -> 茨城KOSMOキッズ | O65: 3(4) | S65: B34 | X65: =H73 -> OBT Kids 雷神
B67: 交流戦 A32
G69: C4位 | H69: =リーグ表!D33 -> 笠間ピュアスターズ キッズ
R70: 0
A71: 3(2) | P71: B28 | U71: 2(0,3,6
G73: C2位 | H73: =リーグ表!D39 -> OBT Kids 雷神 | R73: 7

Sheet トーナメントフレンドリー
K1: かさまジュニア・キッズドッジボール大会
K5: フレンドリーの部 決勝トーナメント | AA5: 優勝 | AC5: =AC27 -> ＵＬＴＩＭＡＴＥ ＳＭＩＬＥ
P6: 決勝のみ３セットマッチ | AA6: 準優勝 | AC6: =L38 -> 竹島フェニックス
B10: #VALUE! | K10: D1位 | L10: =リーグ表!D51 -> ＵＬＴＩＭＡＴＥ ＳＭＩＬＥ
V11: 5
T13: A29
B14: #VALUE! | K14: E4位 | L14: =リーグ表!D61 -> 乙戸ブルーサンダース | Y14: 5
Q16: A24 | V16: 2
E17: 3
B18: #VALUE! | K18: D5位 | W18: A35
AA19: 2(5,6)
F20: 交流戦 A33
B22: #VALUE! | K22: D3位 | L22: =リーグ表!D55 -> 梅が丘子ども会ＤＢ
V23: 7
E24: 2 | T24: A30 | Y24: 4
B26: #VALUE! | K26: E2位 | L26: =リーグ表!D63 -> 笠間ピュアスターズ | V26: 3
Y27: A37 | AC27: =L10 -> ＵＬＴＩＭＡＴＥ ＳＭＩＬＥ
B30: #VALUE! | K30: D2位 | L30: =リーグ表!D53 -> 水戸VICTORY
V31: 3
T32: B29
E33: 5 | Y33: 3
B34: #VALUE! | K34: E3位 | L34: =リーグ表!D65 -> よつわキッズ | V34: 5
F36: 交流戦 B32 | W36: A36 | AA36: 0(4,1)
B38: #VALUE! | K38: D4位 | L38: =リーグ表!D47 -> 竹島フェニックス
V39: 6
E40: 2 | T40: B30 | Y40: 7
B42: #VALUE! | K42: E１位 | L42: =リーグ表!D59 -> ST Enjoys | V42: 2
